BEGIN:VCALENDAR
VERSION:2.0
PRODID:-//Fundapromat - ECPv6.15.20//NONSGML v1.0//EN
CALSCALE:GREGORIAN
METHOD:PUBLISH
X-WR-CALNAME:Fundapromat
X-ORIGINAL-URL:https://fundapromat.org/?lang=en
X-WR-CALDESC:Events for Fundapromat
REFRESH-INTERVAL;VALUE=DURATION:PT1H
X-Robots-Tag:noindex
X-PUBLISHED-TTL:PT1H
BEGIN:VTIMEZONE
TZID:America/Panama
BEGIN:STANDARD
TZOFFSETFROM:-0500
TZOFFSETTO:-0500
TZNAME:EST
DTSTART:20250101T000000
END:STANDARD
END:VTIMEZONE
BEGIN:VEVENT
DTSTART;TZID=America/Panama:20260426T090000
DTEND;TZID=America/Panama:20260426T120000
DTSTAMP:20260424T140841
CREATED:20260421T200633Z
LAST-MODIFIED:20260421T202305Z
UID:10003752-1777194000-1777204800@fundapromat.org
SUMMARY:FUNDAPROMAT Stand at the World Earth Day Celebration 2026
DESCRIPTION:Invited by: Metropolitan Natural Park \nLocation: Visitor Center of the Metropolitan Natural Park\, Panama City.
URL:https://fundapromat.org/event/fundapromat-stand-the-world-earth-day-celebration-2026/?lang=en
ATTACH;FMTTYPE=image/jpeg:https://fundapromat.org/wp-content/uploads/2026/04/Stand-de-FUNDAPROMAT-en-el-Parque-Natural-Metropolitano-2026.jpg
END:VEVENT
BEGIN:VEVENT
DTSTART;TZID=America/Panama:20260429T170000
DTEND;TZID=America/Panama:20260429T180000
DTSTAMP:20260424T140842
CREATED:20260309T052921Z
LAST-MODIFIED:20260401T053549Z
UID:10003718-1777482000-1777485600@fundapromat.org
SUMMARY:Virtual Origami Workshop #117
DESCRIPTION:Registration link: https://tinyurl.com/neworigami117
URL:https://fundapromat.org/event/virtual-origami-workshop-117/?lang=en
ATTACH;FMTTYPE=image/jpeg:https://fundapromat.org/wp-content/uploads/2026/03/Origami117-New.jpg
END:VEVENT
END:VCALENDAR