BEGIN:VCALENDAR
VERSION:2.0
PRODID:-//Fundapromat - ECPv6.15.20//NONSGML v1.0//EN
CALSCALE:GREGORIAN
METHOD:PUBLISH
X-WR-CALNAME:Fundapromat
X-ORIGINAL-URL:https://fundapromat.org/?lang=en
X-WR-CALDESC:Events for Fundapromat
REFRESH-INTERVAL;VALUE=DURATION:PT1H
X-Robots-Tag:noindex
X-PUBLISHED-TTL:PT1H
BEGIN:VTIMEZONE
TZID:America/Panama
BEGIN:STANDARD
TZOFFSETFROM:-0500
TZOFFSETTO:-0500
TZNAME:EST
DTSTART:20250101T000000
END:STANDARD
END:VTIMEZONE
BEGIN:VEVENT
DTSTART;TZID=America/Panama:20260603T120000
DTEND;TZID=America/Panama:20260603T130000
DTSTAMP:20260424T171711
CREATED:20260216T174329Z
LAST-MODIFIED:20260216T174506Z
UID:10003712-1780488000-1780491600@fundapromat.org
SUMMARY:Webinar on A Hidden Treasure in the High School Class
DESCRIPTION:Registration link: https://tinyurl.com/tesoro-clase
URL:https://fundapromat.org/event/webinar-on-a-hidden-treasure-in-the-high-school-class/?lang=en
ATTACH;FMTTYPE=image/jpeg:https://fundapromat.org/wp-content/uploads/2026/02/Tesoro-Clase.jpg
END:VEVENT
BEGIN:VEVENT
DTSTART;TZID=America/Panama:20260610T170000
DTEND;TZID=America/Panama:20260610T180000
DTSTAMP:20260424T171711
CREATED:20260206T011758Z
LAST-MODIFIED:20260206T012017Z
UID:10003694-1781110800-1781114400@fundapromat.org
SUMMARY:Math Webinar in English #57
DESCRIPTION:Abstract: The Collatz Conjecture isn’t just a fun mathematical puzzle; it teaches us about patterns\, sequences\, and unpredictability. It shows how simple rules can lead to unexpected outcomes\, a gateway to deeper mathematical concepts. The Collatz Conjecture has puzzled mathematicians for decades. Solve it and there could be a 120 million yen prize waiting for you! \nRegistration link: https://tinyurl.com/math-english57
URL:https://fundapromat.org/event/math-webinar-in-english-57/?lang=en
ATTACH;FMTTYPE=image/jpeg:https://fundapromat.org/wp-content/uploads/2026/03/English57.jpg
END:VEVENT
END:VCALENDAR