BEGIN:VCALENDAR
VERSION:2.0
PRODID:-//FUNDAPROMAT - ECPv6.15.20//NONSGML v1.0//EN
CALSCALE:GREGORIAN
METHOD:PUBLISH
X-ORIGINAL-URL:https://fundapromat.org
X-WR-CALDESC:Eventos para FUNDAPROMAT
REFRESH-INTERVAL;VALUE=DURATION:PT1H
X-Robots-Tag:noindex
X-PUBLISHED-TTL:PT1H
BEGIN:VTIMEZONE
TZID:America/Panama
BEGIN:STANDARD
TZOFFSETFROM:-0500
TZOFFSETTO:-0500
TZNAME:EST
DTSTART:20250101T000000
END:STANDARD
END:VTIMEZONE
BEGIN:VEVENT
DTSTART;TZID=America/Panama:20260201T090000
DTEND;TZID=America/Panama:20260201T120000
DTSTAMP:20260424T201504
CREATED:20260122T205027Z
LAST-MODIFIED:20260213T164013Z
UID:10003669-1769936400-1769947200@fundapromat.org
SUMMARY:Stand de FUNDAPROMAT en el Festival de Libros Infantil y Juvenil 2026
DESCRIPTION:
URL:https://fundapromat.org/event/stand-de-fundapromat-en-el-festival-de-libros-infantil-y-juvenil-2026/
ATTACH;FMTTYPE=image/jpeg:https://fundapromat.org/wp-content/uploads/2026/01/Stand-en-el-Festival-Infantil-y-Juvenil-2026.jpg
END:VEVENT
BEGIN:VEVENT
DTSTART;TZID=America/Panama:20260207T100000
DTEND;TZID=America/Panama:20260207T120000
DTSTAMP:20260424T201504
CREATED:20260213T154754Z
LAST-MODIFIED:20260213T163843Z
UID:10003697-1770458400-1770465600@fundapromat.org
SUMMARY:Fiesta Matemática en el Centro Supérate en San Miguelito de la Fundación Alberto Motta
DESCRIPTION:
URL:https://fundapromat.org/event/fiesta-matematica-en-el-centro-superate-en-san-miguelito-de-la-fundacion-alberto-motta/
ATTACH;FMTTYPE=image/jpeg:https://fundapromat.org/wp-content/uploads/2026/02/Fiesta-Matematica-en-el-Centro-Superate-de-San-Miguelito-2026.jpg
END:VEVENT
BEGIN:VEVENT
DTSTART;TZID=America/Panama:20260211T100000
DTEND;TZID=America/Panama:20260211T110000
DTSTAMP:20260424T201504
CREATED:20260213T180821Z
LAST-MODIFIED:20260213T182148Z
UID:10003707-1770804000-1770807600@fundapromat.org
SUMMARY:Taller para la Junta Comunal de Tocumen
DESCRIPTION:
URL:https://fundapromat.org/event/taller-para-la-junta-comunal-de-tocumen/
ATTACH;FMTTYPE=image/jpeg:https://fundapromat.org/wp-content/uploads/2026/02/Taller-para-la-Junta-Comunal-de-Tocumen-2026.jpg
END:VEVENT
BEGIN:VEVENT
DTSTART;TZID=America/Panama:20260211T180000
DTEND;TZID=America/Panama:20260211T200000
DTSTAMP:20260424T201504
CREATED:20260206T005827Z
LAST-MODIFIED:20260213T170447Z
UID:10003689-1770832800-1770840000@fundapromat.org
SUMMARY:Stand de FUNDAPROMAT en la Celebración del Día Internacional de la Mujer y la Niña en la Ciencia en la UMIP
DESCRIPTION:
URL:https://fundapromat.org/event/stand-de-fundapromat-en-la-celebracion-del-dia-internacional-de-la-mujer-y-la-nina-en-la-ciencia/
ATTACH;FMTTYPE=image/jpeg:https://fundapromat.org/wp-content/uploads/2026/02/Stand-de-FUNDAPROMAT-para-UMIP-2026.jpg
END:VEVENT
BEGIN:VEVENT
DTSTART;TZID=America/Panama:20260212T100000
DTEND;TZID=America/Panama:20260212T110000
DTSTAMP:20260424T201504
CREATED:20260213T170424Z
LAST-MODIFIED:20260213T170424Z
UID:10003699-1770890400-1770894000@fundapromat.org
SUMMARY:Taller de Origami para el Centro Las Claras de Voces Vitales
DESCRIPTION:
URL:https://fundapromat.org/event/taller-de-origami-para-el-centro-las-claras-de-voces-vitales/
ATTACH;FMTTYPE=image/jpeg:https://fundapromat.org/wp-content/uploads/2026/02/Taller-para-Voces-Vitales-2026.jpg
END:VEVENT
BEGIN:VEVENT
DTSTART;TZID=America/Panama:20260225T170000
DTEND;TZID=America/Panama:20260225T180000
DTSTAMP:20260424T201504
CREATED:20260206T010840Z
LAST-MODIFIED:20260311T014005Z
UID:10003691-1772038800-1772042400@fundapromat.org
SUMMARY:Encuentro Virtual con Matemáticos Sobresalientes #52
DESCRIPTION:
URL:https://fundapromat.org/event/encuentro-virtual-con-matematicos-sobresalientes-52/
ATTACH;FMTTYPE=image/jpeg:https://fundapromat.org/wp-content/uploads/2026/02/Encuentro-Virtual-con-Carmen-Mares.jpg
END:VEVENT
BEGIN:VEVENT
DTSTART;TZID=America/Panama:20260226T170000
DTEND;TZID=America/Panama:20260226T180000
DTSTAMP:20260424T201504
CREATED:20260203T050350Z
LAST-MODIFIED:20260311T014058Z
UID:10003683-1772125200-1772128800@fundapromat.org
SUMMARY:Webinario sobre Fibonacci y Lucas: Números en Todas Partes
DESCRIPTION:
URL:https://fundapromat.org/event/webinario-sobre-fibonacci-y-lucas-numeros-en-todas-partes/
ATTACH;FMTTYPE=image/jpeg:https://fundapromat.org/wp-content/uploads/2026/02/Fibonacci-Lucas.jpg
END:VEVENT
END:VCALENDAR