BEGIN:VCALENDAR
VERSION:2.0
PRODID:-//FUNDAPROMAT - ECPv6.15.20//NONSGML v1.0//EN
CALSCALE:GREGORIAN
METHOD:PUBLISH
X-ORIGINAL-URL:https://fundapromat.org
X-WR-CALDESC:Eventos para FUNDAPROMAT
REFRESH-INTERVAL;VALUE=DURATION:PT1H
X-Robots-Tag:noindex
X-PUBLISHED-TTL:PT1H
BEGIN:VTIMEZONE
TZID:America/Panama
BEGIN:STANDARD
TZOFFSETFROM:-0500
TZOFFSETTO:-0500
TZNAME:EST
DTSTART:20250101T000000
END:STANDARD
END:VTIMEZONE
BEGIN:VEVENT
DTSTART;TZID=America/Panama:20260105T103000
DTEND;TZID=America/Panama:20260105T120000
DTSTAMP:20260424T204115
CREATED:20251018T015304Z
LAST-MODIFIED:20260111T023146Z
UID:10003623-1767609000-1767614400@fundapromat.org
SUMMARY:Sesión de Storytelling de FUNDAPROMAT: Encontrando la Luz en la Oscuridad
DESCRIPTION:
URL:https://fundapromat.org/event/sesion-de-storytelling-de-fundapromat-encontrando-la-luz-en-la-oscuridad/
ATTACH;FMTTYPE=image/jpeg:https://fundapromat.org/wp-content/uploads/2025/10/JMM-2026-Storytelling-Event.jpg
END:VEVENT
BEGIN:VEVENT
DTSTART;TZID=America/Panama:20260106T180000
DTEND;TZID=America/Panama:20260106T200000
DTSTAMP:20260424T204115
CREATED:20260110T221712Z
LAST-MODIFIED:20260111T023245Z
UID:10003663-1767722400-1767729600@fundapromat.org
SUMMARY:Stand de FUNDAPROMAT en la Recepción para Estudiantes de Pregrado del JMM 2026
DESCRIPTION:
URL:https://fundapromat.org/event/stand-de-fundapromat-en-la-recepcion-para-estudiantes-de-pregrado-del-jmm-2026/
ATTACH;FMTTYPE=image/jpeg:https://fundapromat.org/wp-content/uploads/2026/01/Stand-de-FUNDAPROMAT-en-el-JMM-2026.jpg
END:VEVENT
BEGIN:VEVENT
DTSTART;TZID=America/Panama:20260107T083000
DTEND;TZID=America/Panama:20260107T100000
DTSTAMP:20260424T204115
CREATED:20251018T015708Z
LAST-MODIFIED:20260111T023348Z
UID:10003624-1767774600-1767780000@fundapromat.org
SUMMARY:Sesión de Divulgación Matemática de FUNDAPROMAT
DESCRIPTION:
URL:https://fundapromat.org/event/sesion-de-divulgacion-matematica-de-fundapromat/
ATTACH;FMTTYPE=image/jpeg:https://fundapromat.org/wp-content/uploads/2025/10/JMM-2026-Math-Outreach-Session.jpg
END:VEVENT
BEGIN:VEVENT
DTSTART;TZID=America/Panama:20260120T140000
DTEND;TZID=America/Panama:20260120T163000
DTSTAMP:20260424T204115
CREATED:20260127T015744Z
LAST-MODIFIED:20260127T021216Z
UID:10003678-1768917600-1768926600@fundapromat.org
SUMMARY:Mini Fiesta Matemática para Morgan & Morgan
DESCRIPTION:
URL:https://fundapromat.org/event/mini-fiesta-matematica-para-morgan-morgan/
ATTACH;FMTTYPE=image/jpeg:https://fundapromat.org/wp-content/uploads/2026/01/Mini-Fiesta-Matematica-para-Morgan-Morgan-2026.jpg
END:VEVENT
BEGIN:VEVENT
DTSTART;TZID=America/Panama:20260121T103000
DTEND;TZID=America/Panama:20260121T113000
DTSTAMP:20260424T204115
CREATED:20260122T205550Z
LAST-MODIFIED:20260127T022223Z
UID:10003673-1768991400-1768995000@fundapromat.org
SUMMARY:Taller de Origami para la Junta Comunal de San Francisco
DESCRIPTION:
URL:https://fundapromat.org/event/taller-de-origami-para-la-junta-comunal-de-san-francisco/
ATTACH;FMTTYPE=image/jpeg:https://fundapromat.org/wp-content/uploads/2026/01/Taller-de-Origami-para-la-Junta-Comunal-de-San-Francisco1.jpg
END:VEVENT
BEGIN:VEVENT
DTSTART;TZID=America/Panama:20260121T113000
DTEND;TZID=America/Panama:20260121T123000
DTSTAMP:20260424T204115
CREATED:20260122T205627Z
LAST-MODIFIED:20260127T022638Z
UID:10003674-1768995000-1768998600@fundapromat.org
SUMMARY:Taller de Origami para la Junta Comunal de San Francisco
DESCRIPTION:
URL:https://fundapromat.org/event/taller-de-origami-para-la-junta-comunal-de-san-francisco-2/
ATTACH;FMTTYPE=image/jpeg:https://fundapromat.org/wp-content/uploads/2026/01/Taller-de-Origami-para-la-Junta-Comunal-de-San-Francisco2.jpg
END:VEVENT
BEGIN:VEVENT
DTSTART;TZID=America/Panama:20260124T100000
DTEND;TZID=America/Panama:20260124T120000
DTSTAMP:20260424T204115
CREATED:20260127T015702Z
LAST-MODIFIED:20260127T024504Z
UID:10003677-1769248800-1769256000@fundapromat.org
SUMMARY:Fiesta Matemática en el Centro Supérate en Colón de la Fundación Alberto Motta
DESCRIPTION:
URL:https://fundapromat.org/event/fiesta-matematica-en-el-centro-superate-en-colon-de-la-fundacion-alberto-motta/
ATTACH;FMTTYPE=image/jpeg:https://fundapromat.org/wp-content/uploads/2026/01/Fiesta-Matematica-en-el-Centro-Superate-de-Colon-2026.jpg
END:VEVENT
BEGIN:VEVENT
DTSTART;TZID=America/Panama:20260126T090000
DTEND;TZID=America/Panama:20260126T120000
DTSTAMP:20260424T204116
CREATED:20251128T220122Z
LAST-MODIFIED:20260213T154450Z
UID:10003638-1769418000-1769428800@fundapromat.org
SUMMARY:Veranito de FUNDAPROMAT 2026
DESCRIPTION:
URL:https://fundapromat.org/event/veranito-de-fundapromat-2026/
ATTACH;FMTTYPE=image/jpeg:https://fundapromat.org/wp-content/uploads/2025/11/Veranito-2026.jpg
END:VEVENT
BEGIN:VEVENT
DTSTART;TZID=America/Panama:20260127T090000
DTEND;TZID=America/Panama:20260127T120000
DTSTAMP:20260424T204116
CREATED:20251128T222137Z
LAST-MODIFIED:20260213T154617Z
UID:10003641-1769504400-1769515200@fundapromat.org
SUMMARY:Veranito de FUNDAPROMAT 2026
DESCRIPTION:
URL:https://fundapromat.org/event/veranito-de-fundapromat-2026-2/
ATTACH;FMTTYPE=image/jpeg:https://fundapromat.org/wp-content/uploads/2025/11/Veranito-2026.jpg
END:VEVENT
BEGIN:VEVENT
DTSTART;TZID=America/Panama:20260128T090000
DTEND;TZID=America/Panama:20260128T120000
DTSTAMP:20260424T204116
CREATED:20251128T222250Z
LAST-MODIFIED:20260213T154806Z
UID:10003643-1769590800-1769601600@fundapromat.org
SUMMARY:Veranito de FUNDAPROMAT 2026
DESCRIPTION:
URL:https://fundapromat.org/event/veranito-de-fundapromat-2026-3/
ATTACH;FMTTYPE=image/jpeg:https://fundapromat.org/wp-content/uploads/2025/11/Veranito-2026.jpg
END:VEVENT
BEGIN:VEVENT
DTSTART;TZID=America/Panama:20260129T090000
DTEND;TZID=America/Panama:20260129T120000
DTSTAMP:20260424T204116
CREATED:20251128T222320Z
LAST-MODIFIED:20260213T154926Z
UID:10003644-1769677200-1769688000@fundapromat.org
SUMMARY:Veranito de FUNDAPROMAT 2026
DESCRIPTION:
URL:https://fundapromat.org/event/veranito-de-fundapromat-2026-4/
ATTACH;FMTTYPE=image/jpeg:https://fundapromat.org/wp-content/uploads/2025/11/Veranito-2026.jpg
END:VEVENT
BEGIN:VEVENT
DTSTART;TZID=America/Panama:20260130T090000
DTEND;TZID=America/Panama:20260130T120000
DTSTAMP:20260424T204116
CREATED:20251128T222342Z
LAST-MODIFIED:20260213T155003Z
UID:10003646-1769763600-1769774400@fundapromat.org
SUMMARY:Veranito de FUNDAPROMAT 2026
DESCRIPTION:
URL:https://fundapromat.org/event/veranito-de-fundapromat-2026-5/
ATTACH;FMTTYPE=image/jpeg:https://fundapromat.org/wp-content/uploads/2025/11/Veranito-2026.jpg
END:VEVENT
BEGIN:VEVENT
DTSTART;TZID=America/Panama:20260131T090000
DTEND;TZID=America/Panama:20260131T120000
DTSTAMP:20260424T204116
CREATED:20260122T205307Z
LAST-MODIFIED:20260213T164031Z
UID:10003670-1769850000-1769860800@fundapromat.org
SUMMARY:Stand de FUNDAPROMAT en el Festival Educativo Familiar EDUnidos
DESCRIPTION:
URL:https://fundapromat.org/event/stand-de-fundapromat-en-el-festival-educativo-familiar-edunidos/
ATTACH;FMTTYPE=image/jpeg:https://fundapromat.org/wp-content/uploads/2026/01/Stand-en-el-Festival-EDUnidos-2026.jpg
END:VEVENT
BEGIN:VEVENT
DTSTART;TZID=America/Panama:20260131T100000
DTEND;TZID=America/Panama:20260131T120000
DTSTAMP:20260424T204116
CREATED:20260213T154508Z
LAST-MODIFIED:20260213T163854Z
UID:10003695-1769853600-1769860800@fundapromat.org
SUMMARY:Fiesta Matemática en el Centro Supérate en La Chorrera de la Fundación Alberto Motta
DESCRIPTION:
URL:https://fundapromat.org/event/fiesta-matematica-en-el-centro-superate-en-la-chorrera-de-la-fundacion-alberto-motta/
ATTACH;FMTTYPE=image/jpeg:https://fundapromat.org/wp-content/uploads/2026/02/Fiesta-Matematica-en-el-Centro-Superate-de-La-Chorrera-2026.jpg
END:VEVENT
END:VCALENDAR