BEGIN:VCALENDAR
VERSION:2.0
PRODID:-//FUNDAPROMAT - ECPv6.15.20//NONSGML v1.0//EN
CALSCALE:GREGORIAN
METHOD:PUBLISH
X-WR-CALNAME:FUNDAPROMAT
X-ORIGINAL-URL:https://fundapromat.org
X-WR-CALDESC:Eventos para FUNDAPROMAT
REFRESH-INTERVAL;VALUE=DURATION:PT1H
X-Robots-Tag:noindex
X-PUBLISHED-TTL:PT1H
BEGIN:VTIMEZONE
TZID:America/Panama
BEGIN:STANDARD
TZOFFSETFROM:-0500
TZOFFSETTO:-0500
TZNAME:EST
DTSTART:20250101T000000
END:STANDARD
END:VTIMEZONE
BEGIN:VEVENT
DTSTART;TZID=America/Panama:20260507T170000
DTEND;TZID=America/Panama:20260507T180000
DTSTAMP:20260424T202949
CREATED:20260414T175138Z
LAST-MODIFIED:20260414T175138Z
UID:40424-1778173200-1778176800@fundapromat.org
SUMMARY:Webinario sobre Navegando con las Estrellas
DESCRIPTION:Link de inscripción: https://tinyurl.com/navegando-estrellas
URL:https://fundapromat.org/event/webinario-sobre-navegando-con-las-estrellas/
ATTACH;FMTTYPE=image/jpeg:https://fundapromat.org/wp-content/uploads/2026/04/Navegando-Estrellas.jpg
END:VEVENT
END:VCALENDAR