BEGIN:VCALENDAR
VERSION:2.0
PRODID:-//FUNDAPROMAT - ECPv6.15.20//NONSGML v1.0//EN
CALSCALE:GREGORIAN
METHOD:PUBLISH
X-WR-CALNAME:FUNDAPROMAT
X-ORIGINAL-URL:https://fundapromat.org
X-WR-CALDESC:Eventos para FUNDAPROMAT
REFRESH-INTERVAL;VALUE=DURATION:PT1H
X-Robots-Tag:noindex
X-PUBLISHED-TTL:PT1H
BEGIN:VTIMEZONE
TZID:America/Panama
BEGIN:STANDARD
TZOFFSETFROM:-0500
TZOFFSETTO:-0500
TZNAME:EST
DTSTART:20250101T000000
END:STANDARD
END:VTIMEZONE
BEGIN:VEVENT
DTSTART;TZID=America/Panama:20260312T120000
DTEND;TZID=America/Panama:20260312T130000
DTSTAMP:20260424T203641
CREATED:20260122T204239Z
LAST-MODIFIED:20260314T205254Z
UID:39754-1773316800-1773320400@fundapromat.org
SUMMARY:Webinario sobre Jugando con la Paradoja: Sorpresas y Desengaños
DESCRIPTION:
URL:https://fundapromat.org/event/webinario-sobre-jugando-con-la-paradoja-sorpresas-y-desenganos/
ATTACH;FMTTYPE=image/jpeg:https://fundapromat.org/wp-content/uploads/2026/01/Jugando-Paradoja.jpg
END:VEVENT
END:VCALENDAR