BEGIN:VCALENDAR
VERSION:2.0
PRODID:-//FUNDAPROMAT - ECPv6.15.20//NONSGML v1.0//EN
CALSCALE:GREGORIAN
METHOD:PUBLISH
X-WR-CALNAME:FUNDAPROMAT
X-ORIGINAL-URL:https://fundapromat.org
X-WR-CALDESC:Eventos para FUNDAPROMAT
REFRESH-INTERVAL;VALUE=DURATION:PT1H
X-Robots-Tag:noindex
X-PUBLISHED-TTL:PT1H
BEGIN:VTIMEZONE
TZID:America/Panama
BEGIN:STANDARD
TZOFFSETFROM:-0500
TZOFFSETTO:-0500
TZNAME:EST
DTSTART:20250101T000000
END:STANDARD
END:VTIMEZONE
BEGIN:VEVENT
DTSTART;TZID=America/Panama:20261008T170000
DTEND;TZID=America/Panama:20261008T180000
DTSTAMP:20260424T202933
CREATED:20260414T151828Z
LAST-MODIFIED:20260414T151828Z
UID:40382-1791478800-1791482400@fundapromat.org
SUMMARY:Webinario de Matemáticas en Inglés #61
DESCRIPTION:Link de inscripción: https://tinyurl.com/math-english61
URL:https://fundapromat.org/event/webinario-de-matematicas-en-ingles-61/
ATTACH;FMTTYPE=image/jpeg:https://fundapromat.org/wp-content/uploads/2026/04/English61-1.jpg
END:VEVENT
END:VCALENDAR