BEGIN:VCALENDAR
VERSION:2.0
PRODID:-//FUNDAPROMAT - ECPv6.15.20//NONSGML v1.0//EN
CALSCALE:GREGORIAN
METHOD:PUBLISH
X-WR-CALNAME:FUNDAPROMAT
X-ORIGINAL-URL:https://fundapromat.org
X-WR-CALDESC:Eventos para FUNDAPROMAT
REFRESH-INTERVAL;VALUE=DURATION:PT1H
X-Robots-Tag:noindex
X-PUBLISHED-TTL:PT1H
BEGIN:VTIMEZONE
TZID:America/Panama
BEGIN:STANDARD
TZOFFSETFROM:-0500
TZOFFSETTO:-0500
TZNAME:EST
DTSTART:20250101T000000
END:STANDARD
END:VTIMEZONE
BEGIN:VEVENT
DTSTART;TZID=America/Panama:20260426T090000
DTEND;TZID=America/Panama:20260426T120000
DTSTAMP:20260424T171311
CREATED:20260421T200102Z
LAST-MODIFIED:20260421T200102Z
UID:40469-1777194000-1777204800@fundapromat.org
SUMMARY:Stand de FUNDAPROMAT en la Celebración del Día Mundial de la Tierra 2026
DESCRIPTION:Invitados por: Parque Natural Metropolitano \nUbicación: Centro de Visitantes del Parque Natural Metropolitano\, Ciudad de Panamá.
URL:https://fundapromat.org/event/stand-de-fundapromat-en-la-celebracion-del-dia-mundial-de-la-tierra-2026/
ATTACH;FMTTYPE=image/jpeg:https://fundapromat.org/wp-content/uploads/2026/04/Stand-de-FUNDAPROMAT-en-el-Parque-Natural-Metropolitano-2026.jpg
END:VEVENT
END:VCALENDAR