BEGIN:VCALENDAR
VERSION:2.0
PRODID:-//FUNDAPROMAT - ECPv6.15.20//NONSGML v1.0//EN
CALSCALE:GREGORIAN
METHOD:PUBLISH
X-WR-CALNAME:FUNDAPROMAT
X-ORIGINAL-URL:https://fundapromat.org
X-WR-CALDESC:Eventos para FUNDAPROMAT
REFRESH-INTERVAL;VALUE=DURATION:PT1H
X-Robots-Tag:noindex
X-PUBLISHED-TTL:PT1H
BEGIN:VTIMEZONE
TZID:America/Panama
BEGIN:STANDARD
TZOFFSETFROM:-0500
TZOFFSETTO:-0500
TZNAME:EST
DTSTART:20250101T000000
END:STANDARD
END:VTIMEZONE
BEGIN:VEVENT
DTSTART;TZID=America/Panama:20260516T120000
DTEND;TZID=America/Panama:20260516T140000
DTSTAMP:20260424T202837
CREATED:20260421T195909Z
LAST-MODIFIED:20260421T195909Z
UID:40461-1778932800-1778940000@fundapromat.org
SUMMARY:Meet & Greet Constanza Rojas-Molina
DESCRIPTION:Evento exclusivo en el marco de la celebración del Día Internacional de las Mujeres Matemáticas.\n\nUbicación: Restaurante Ciao Ragazzi de Clayton\, Ciudad de Panamá.\n\nContribución a FUNDAPROMAT: B/. 50.00 por persona que incluye un almuerzo exquisito.\n\nReserva tu cupo escribiendo al WhatsApp +(507) 6990-1458 y conoce en persona a la matemática e ilustradora chilena Constanza Rojas-Molina quien hoy en día reside en Francia.
URL:https://fundapromat.org/event/meet-greet-constanza-rojas-molina/
ATTACH;FMTTYPE=image/jpeg:https://fundapromat.org/wp-content/uploads/2026/04/Meet-Greet-Constanza.jpg
END:VEVENT
END:VCALENDAR