BEGIN:VCALENDAR
VERSION:2.0
PRODID:-//FUNDAPROMAT - ECPv6.15.20//NONSGML v1.0//EN
CALSCALE:GREGORIAN
METHOD:PUBLISH
X-WR-CALNAME:FUNDAPROMAT
X-ORIGINAL-URL:https://fundapromat.org
X-WR-CALDESC:Eventos para FUNDAPROMAT
REFRESH-INTERVAL;VALUE=DURATION:PT1H
X-Robots-Tag:noindex
X-PUBLISHED-TTL:PT1H
BEGIN:VTIMEZONE
TZID:America/Panama
BEGIN:STANDARD
TZOFFSETFROM:-0500
TZOFFSETTO:-0500
TZNAME:EST
DTSTART:20250101T000000
END:STANDARD
END:VTIMEZONE
BEGIN:VEVENT
DTSTART;TZID=America/Panama:20260421T190000
DTEND;TZID=America/Panama:20260421T210000
DTSTAMP:20260424T172127
CREATED:20260213T193526Z
LAST-MODIFIED:20260213T193526Z
UID:40095-1776798000-1776805200@fundapromat.org
SUMMARY:MathsJam en Panamá #27
DESCRIPTION:Evento presencial de entrada gratuita para mayores de 18 años de edad. \nUbicación: restaurante México Lindo\, Primer Piso\, AltaPlaza Mall\, Ciudad de Panamá. \n15% de descuento en el menú para todos los que asistan al MathsJam. \nSi asistes con 3 de tus amigos\, te regalamos un termo con el logo del MathsJam en Panamá.
URL:https://fundapromat.org/event/mathsjam-en-panama-27/
ATTACH;FMTTYPE=image/jpeg:https://fundapromat.org/wp-content/uploads/2026/02/MathsJam-Abril-2026-1.jpg
END:VEVENT
END:VCALENDAR