BEGIN:VCALENDAR
VERSION:2.0
PRODID:-//FUNDAPROMAT - ECPv6.15.20//NONSGML v1.0//EN
CALSCALE:GREGORIAN
METHOD:PUBLISH
X-WR-CALNAME:FUNDAPROMAT
X-ORIGINAL-URL:https://fundapromat.org
X-WR-CALDESC:Eventos para FUNDAPROMAT
REFRESH-INTERVAL;VALUE=DURATION:PT1H
X-Robots-Tag:noindex
X-PUBLISHED-TTL:PT1H
BEGIN:VTIMEZONE
TZID:America/Panama
BEGIN:STANDARD
TZOFFSETFROM:-0500
TZOFFSETTO:-0500
TZNAME:EST
DTSTART:20250101T000000
END:STANDARD
END:VTIMEZONE
BEGIN:VEVENT
DTSTART;TZID=America/Panama:20260514T110000
DTEND;TZID=America/Panama:20260514T120000
DTSTAMP:20260424T202827
CREATED:20260414T184221Z
LAST-MODIFIED:20260414T184221Z
UID:40437-1778756400-1778760000@fundapromat.org
SUMMARY:Cómics Matemáticos en Azuero
DESCRIPTION:Evento presencial de entrada gratuita para todas las edades. \nUbicación: Auditorium del Centro Regional Universitario de Azuero de la Universidad de Panamá en Chitré. \nSi deseas asistir con un grupo de estudiantes y docentes\, escríbenos al WhatsApp 6990-1458 para coordinar los detalles logísticos.
URL:https://fundapromat.org/event/comics-matematicos-en-azuero/
ATTACH;FMTTYPE=image/jpeg:https://fundapromat.org/wp-content/uploads/2026/04/Afiche-Constanza2026-1.jpg
END:VEVENT
END:VCALENDAR